BEGIN:VCALENDAR
VERSION:2.0
PRODID:-//Phoenix Shooters Association - ECPv6.15.16//NONSGML v1.0//EN
CALSCALE:GREGORIAN
METHOD:PUBLISH
X-ORIGINAL-URL:https://www.phoenixshooters.co.uk
X-WR-CALDESC:Events for Phoenix Shooters Association
REFRESH-INTERVAL;VALUE=DURATION:PT1H
X-Robots-Tag:noindex
X-PUBLISHED-TTL:PT1H
BEGIN:VTIMEZONE
TZID:Europe/London
BEGIN:DAYLIGHT
TZOFFSETFROM:+0000
TZOFFSETTO:+0100
TZNAME:BST
DTSTART:20250330T010000
END:DAYLIGHT
BEGIN:STANDARD
TZOFFSETFROM:+0100
TZOFFSETTO:+0000
TZNAME:GMT
DTSTART:20251026T010000
END:STANDARD
BEGIN:DAYLIGHT
TZOFFSETFROM:+0000
TZOFFSETTO:+0100
TZNAME:BST
DTSTART:20260329T010000
END:DAYLIGHT
BEGIN:STANDARD
TZOFFSETFROM:+0100
TZOFFSETTO:+0000
TZNAME:GMT
DTSTART:20261025T010000
END:STANDARD
BEGIN:DAYLIGHT
TZOFFSETFROM:+0000
TZOFFSETTO:+0100
TZNAME:BST
DTSTART:20270328T010000
END:DAYLIGHT
BEGIN:STANDARD
TZOFFSETFROM:+0100
TZOFFSETTO:+0000
TZNAME:GMT
DTSTART:20271031T010000
END:STANDARD
END:VTIMEZONE
BEGIN:VEVENT
DTSTART;TZID=Europe/London:20260606T100000
DTEND;TZID=Europe/London:20260606T160000
DTSTAMP:20260424T120402
CREATED:20260223T170354Z
LAST-MODIFIED:20260223T170354Z
UID:12794-1780740000-1780761600@www.phoenixshooters.co.uk
SUMMARY:Saturday 6th June 2026\, Wern Ddu shoot
DESCRIPTION:If you can\, please try to be there on time so that we can have the briefing and then start the shoot. \nThe entrance is shown on Google maps as Wern Ddu Quarry\, and it’s on the right on the A494 about 8.3 miles south of Ruthin. \nWhat three Words – CALL HOME PROMOTION \nOS Map ref 53◦ 01’ 24.13” N   3◦ 23’ 26.77” W \nMore details on the website – see below link \nProtected: Proposed Wern Ddu procedure [Update 22/3/26 12:37]\nNote that we may not necessarily shoot right up to 16:00 – we’ll finish when everyone has had enough!
URL:https://www.phoenixshooters.co.uk/calendar/saturday-6th-june-2026-wern-ddu-shoot/
LOCATION:Wern Ddu\, Corwen\, LL21 9DU\, United Kingdom
CATEGORIES:Wern Ddu shoot
ATTACH;FMTTYPE=image/png:https://www.phoenixshooters.co.uk/wp-content/uploads/2026/02/Dragon-2.png
END:VEVENT
BEGIN:VEVENT
DTSTART;TZID=Europe/London:20260613T094500
DTEND;TZID=Europe/London:20260613T130000
DTSTAMP:20260424T120403
CREATED:20260322T132751Z
LAST-MODIFIED:20260322T132751Z
UID:13067-1781343900-1781355600@www.phoenixshooters.co.uk
SUMMARY:SATURDAY 13th June 2026 Clay shoot at Cotton Edmunds
DESCRIPTION:I’ll put more details of this shoot nearer the date but remember; letting us know beforehand that you’ll be coming (by e-mail\, for preference) will help us to get things organised properly for you.
URL:https://www.phoenixshooters.co.uk/calendar/saturday-13th-june-2026-clay-shoot-at-cotton-edmunds/
LOCATION:Cotton Edmunds
CATEGORIES:Clay shoot,Clay Shoot Cotton Edmunds
ATTACH;FMTTYPE=image/jpeg:https://www.phoenixshooters.co.uk/wp-content/uploads/2025/02/Clay-for-website.jpg
END:VEVENT
END:VCALENDAR