BEGIN:VCALENDAR
VERSION:2.0
PRODID:-//Phoenix Shooters Association - ECPv6.15.16//NONSGML v1.0//EN
CALSCALE:GREGORIAN
METHOD:PUBLISH
X-WR-CALNAME:Phoenix Shooters Association
X-ORIGINAL-URL:https://www.phoenixshooters.co.uk
X-WR-CALDESC:Events for Phoenix Shooters Association
REFRESH-INTERVAL;VALUE=DURATION:PT1H
X-Robots-Tag:noindex
X-PUBLISHED-TTL:PT1H
BEGIN:VTIMEZONE
TZID:Europe/London
BEGIN:DAYLIGHT
TZOFFSETFROM:+0000
TZOFFSETTO:+0100
TZNAME:BST
DTSTART:20250330T010000
END:DAYLIGHT
BEGIN:STANDARD
TZOFFSETFROM:+0100
TZOFFSETTO:+0000
TZNAME:GMT
DTSTART:20251026T010000
END:STANDARD
BEGIN:DAYLIGHT
TZOFFSETFROM:+0000
TZOFFSETTO:+0100
TZNAME:BST
DTSTART:20260329T010000
END:DAYLIGHT
BEGIN:STANDARD
TZOFFSETFROM:+0100
TZOFFSETTO:+0000
TZNAME:GMT
DTSTART:20261025T010000
END:STANDARD
BEGIN:DAYLIGHT
TZOFFSETFROM:+0000
TZOFFSETTO:+0100
TZNAME:BST
DTSTART:20270328T010000
END:DAYLIGHT
BEGIN:STANDARD
TZOFFSETFROM:+0100
TZOFFSETTO:+0000
TZNAME:GMT
DTSTART:20271031T010000
END:STANDARD
END:VTIMEZONE
BEGIN:VEVENT
DTSTART;TZID=Europe/London:20260304T110000
DTEND;TZID=Europe/London:20260304T130000
DTSTAMP:20260424T111026
CREATED:20260222T115737Z
LAST-MODIFIED:20260304T090922Z
UID:12774-1772622000-1772629200@www.phoenixshooters.co.uk
SUMMARY:Wednesday  4th March 2026 - Sheepshed DAYTIME shoot.
DESCRIPTION:The daytime Sheepshed social ocassion and shoot ! \nThese daytime shoots have been getting more & more popular over the last months – which is great. \nIf you need club guns\, ammunition or accessories\, please let us know (preferably by e-mail) beforehand – thanks. \nInterestingly\, the gunuse forms from these shoots are almost always completed within the day – unlike other shoots. \n 
URL:https://www.phoenixshooters.co.uk/calendar/wednesday-4th-march-2026-sheepshed-daytime-shoot/
LOCATION:The Sheepshed Range\, Woodbank\, Cheshire\, United Kingdom
CATEGORIES:Sheepshed Range Shoot
ATTACH;FMTTYPE=image/png:https://www.phoenixshooters.co.uk/wp-content/uploads/2025/02/White-sheep-e1740055974595.png
END:VEVENT
BEGIN:VEVENT
DTSTART;TZID=Europe/London:20260307T093000
DTEND;TZID=Europe/London:20260307T130000
DTSTAMP:20260424T111026
CREATED:20260222T095522Z
LAST-MODIFIED:20260222T095709Z
UID:12768-1772875800-1772888400@www.phoenixshooters.co.uk
SUMMARY:Saturday 7th March 2026 - Clay shoot at Phil's Place.
DESCRIPTION:Another lovely countryside shoot – we are very privileged to be allowed to shoot here. \nRemember to drive slowly and quiretly on the way in and out – particularly to avoid upsetting any horses that might be present. \nIf you plan to come\, please let us know by e-mail so that we can ensure we have enough clays etc\, and if you need a club gun and/or ammunition\, then we need to know to bring it along for you. \nDe-briefing afterwards ?
URL:https://www.phoenixshooters.co.uk/calendar/saturday-7th-march-2026-clay-shoot-at-phils-place/
LOCATION:Phil’s Place\, Ledsham\, Ledsham\, United Kingdom
CATEGORIES:Clay shoot,Phil's place
ATTACH;FMTTYPE=image/jpeg:https://www.phoenixshooters.co.uk/wp-content/uploads/2025/03/Clays-at-Phils-22-3-25_edited.jpg
END:VEVENT
BEGIN:VEVENT
DTSTART;TZID=Europe/London:20260314T100000
DTEND;TZID=Europe/London:20260314T163000
DTSTAMP:20260424T111026
CREATED:20251128T132920Z
LAST-MODIFIED:20260311T162459Z
UID:12280-1773482400-1773505800@www.phoenixshooters.co.uk
SUMMARY:Saturday 14th March\, Wern Ddu shoot [Updated 16:23\, 11/3/26]
DESCRIPTION:Now confirmed.  Initially we will not have any club guns or ammunition\, but as things progress that may well change. \nThe range is very sheltered\, but if the weather is cold it would be best to dress accordingly.   Remember that parking at the range is limited\, so it really will help us if you can let us know if you’ll be coming.  It might be a good idea to share transport as well. Another good idea is to wear wellies ! \nWhat three words – CALL HOME PROMOTION – it’s about 8.3 miles south of Ruthin on the A494. \nPlease keep checking the website\, as things can change quickly !
URL:https://www.phoenixshooters.co.uk/calendar/saturday-14th-march-wern-ddu-shoot/
LOCATION:Wern Ddu\, Corwen\, LL21 9DU\, United Kingdom
CATEGORIES:Wern Ddu shoot
ATTACH;FMTTYPE=image/png:https://www.phoenixshooters.co.uk/wp-content/uploads/2026/02/Dragon-2.png
END:VEVENT
BEGIN:VEVENT
DTSTART;TZID=Europe/London:20260315T110000
DTEND;TZID=Europe/London:20260315T153000
DTSTAMP:20260424T111026
CREATED:20260228T115730Z
LAST-MODIFIED:20260311T162254Z
UID:12850-1773572400-1773588600@www.phoenixshooters.co.uk
SUMMARY:SUNDAY 15th March 2026 ALTCAR Shoot - CONFIRMED [Updated 11/3/26] Bookings closed
DESCRIPTION:This has now been confirmed  – we’ve been given ‘I’ range\, probably at 100 yards. \nIf we do not get enough shooters for these events\, we may not be in a position to continue to shoot at Altcar.  \nYou will find a lot of important information at   https://www.phoenixshooters.co.uk/category/club-news/  for the Altcar shoots\, which you should check regularly as it is often updated two or even three times a day. \nNB: It’s advisable to arrive at 11:00 to ensure you get everything sorted out before shooting starts –   NO STAPLES are allowed\, so if you have some masking tape you could bring that will help us. \nShould be good !
URL:https://www.phoenixshooters.co.uk/calendar/sunday-15th-march-2026-altcar-shoot/
LOCATION:Altcar Ranges\, L38 7JE
CATEGORIES:Altcar,SUNDAY shoot
ATTACH;FMTTYPE=image/jpeg:https://www.phoenixshooters.co.uk/wp-content/uploads/2026/02/image-1.jpeg
END:VEVENT
BEGIN:VEVENT
DTSTART;TZID=Europe/London:20260318T190000
DTEND;TZID=Europe/London:20260318T210000
DTSTAMP:20260424T111026
CREATED:20260315T100654Z
LAST-MODIFIED:20260315T100851Z
UID:12980-1773860400-1773867600@www.phoenixshooters.co.uk
SUMMARY:WEDNESDAY 18th March 2026\, Sheepshed EVENING shoot
DESCRIPTION:Please remember to park tightly to allow access to as many as possible\, while ensuring that there is a clear reoute in and out for the family. \nIt helps us to bring the right equipment along if you let us know in advance that you’ll be coming\, particularly if you want a club gun or ammunition. \nSee you there ?
URL:https://www.phoenixshooters.co.uk/calendar/wednesday-18th-march-2026-sheepshed-evening-shoot/
CATEGORIES:Evening Sheepshed Range Shoot,Sheepshed Range Shoot
ATTACH;FMTTYPE=image/png:https://www.phoenixshooters.co.uk/wp-content/uploads/2025/02/Black-sheep-e1740071926380.png
END:VEVENT
BEGIN:VEVENT
DTSTART;TZID=Europe/London:20260321T093000
DTEND;TZID=Europe/London:20260321T130000
DTSTAMP:20260424T111026
CREATED:20251114T135539Z
LAST-MODIFIED:20251117T103813Z
UID:12233-1774085400-1774098000@www.phoenixshooters.co.uk
SUMMARY:Saturday 21st March 2026 Clay shoot at Phil's Place
DESCRIPTION:If you haven’t been before and need directions\, please let us know and we’ll help. \nPlease remember to drive slowly and quietly past the residential farm buildings. \nYou’ll probably need wellies….. !
URL:https://www.phoenixshooters.co.uk/calendar/saturday-14th-march-2026-clay-shoot-at-phils-place/
LOCATION:Phil’s Place\, Ledsham\, Ledsham\, United Kingdom
CATEGORIES:Clay shoot,Phil's place
ATTACH;FMTTYPE=image/jpeg:https://www.phoenixshooters.co.uk/wp-content/uploads/2025/03/Clays-at-Phils-22-3-25_edited.jpg
END:VEVENT
BEGIN:VEVENT
DTSTART;TZID=Europe/London:20260322T110000
DTEND;TZID=Europe/London:20260322T153000
DTSTAMP:20260424T111026
CREATED:20260228T101244Z
LAST-MODIFIED:20260319T145524Z
UID:12846-1774177200-1774193400@www.phoenixshooters.co.uk
SUMMARY:SUNDAY 22nd March 2026 - ALTCAR shoot CONFIRMED [updated 14:49 19/3/26]
DESCRIPTION:BOOKINGS NOW CLOSED \nAltcar has just granted this date on ‘I’ range.  The feedback from the shoot on 15th March was VERY positive – the facilities are far in excess of anything we might have dreamed about at Sealand. \nHowever\, we need sufficient people to book this and the other early shoots ay Altcar\, as – like with Sealand – we need at least seven people to run\, but that’s the absolute minimum. \nWe’ve sent you a link to a form with all the information needed to shoot there on that date. This must be with us at least five days before the shoot date\, with all the information completed.  There’s also a link from the ALTCAR posting on this website. \nNB: It’s advisable to arrive at 11:00 to ensure you get everything sorted out before shooting starts.  You may (or may not) be asked for photo ID at the gatehouse\, it’s still unclear\, so it might be as well to have something ready.
URL:https://www.phoenixshooters.co.uk/calendar/sunday-22nd-march-2026-altcar-shoot/
LOCATION:Altcar Ranges\, L38 7JE
CATEGORIES:Altcar,SUNDAY shoot
ATTACH;FMTTYPE=image/jpeg:https://www.phoenixshooters.co.uk/wp-content/uploads/2026/02/image-1.jpeg
END:VEVENT
BEGIN:VEVENT
DTSTART;TZID=Europe/London:20260328T093000
DTEND;TZID=Europe/London:20260328T130000
DTSTAMP:20260424T111026
CREATED:20260224T105521Z
LAST-MODIFIED:20260324T164438Z
UID:12800-1774690200-1774702800@www.phoenixshooters.co.uk
SUMMARY:Saturday 28th March 2026 - Brimstage shoot
DESCRIPTION:We may have to park in the field to the left of the Archery as you look downrange. The entrance is about eighty yards on from the usual entrance – signs will be provided ! \nThese friendly\, informal Brimstage shoots are undoubtedly the best events for your family and friends to come to\, and they will be made most welcome as your guests.. \nAir rifles\, air pistols\, airsofts\, BB guns etc are all welcome\, likewise any form of archery. \nIf you want to bring your own targets\, these would be very welcome as well. \nAs always\, if you let us know you’ll be coming (by e-mail preferably) it makes things easier for us\, and that’s particularly important to us just now. \nOf course if you want a club gun or bow\, then it’s doubly important that you let us know so that we can bring it for you !
URL:https://www.phoenixshooters.co.uk/calendar/saturday-28th-march-2026-brimstage-shoot/
LOCATION:Brimstage\, Brimstage\, Wirral\, United Kingdom
CATEGORIES:Air rifle competition,Airgun shoot,Brimstage
ATTACH;FMTTYPE=image/jpeg:https://www.phoenixshooters.co.uk/wp-content/uploads/2025/03/20240413_103614-scaled.jpg
END:VEVENT
END:VCALENDAR