BEGIN:VCALENDAR
VERSION:2.0
PRODID:-//Phoenix Shooters Association - ECPv6.15.16//NONSGML v1.0//EN
CALSCALE:GREGORIAN
METHOD:PUBLISH
X-ORIGINAL-URL:https://www.phoenixshooters.co.uk
X-WR-CALDESC:Events for Phoenix Shooters Association
REFRESH-INTERVAL;VALUE=DURATION:PT1H
X-Robots-Tag:noindex
X-PUBLISHED-TTL:PT1H
BEGIN:VTIMEZONE
TZID:Europe/London
BEGIN:DAYLIGHT
TZOFFSETFROM:+0000
TZOFFSETTO:+0100
TZNAME:BST
DTSTART:20250330T010000
END:DAYLIGHT
BEGIN:STANDARD
TZOFFSETFROM:+0100
TZOFFSETTO:+0000
TZNAME:GMT
DTSTART:20251026T010000
END:STANDARD
BEGIN:DAYLIGHT
TZOFFSETFROM:+0000
TZOFFSETTO:+0100
TZNAME:BST
DTSTART:20260329T010000
END:DAYLIGHT
BEGIN:STANDARD
TZOFFSETFROM:+0100
TZOFFSETTO:+0000
TZNAME:GMT
DTSTART:20261025T010000
END:STANDARD
BEGIN:DAYLIGHT
TZOFFSETFROM:+0000
TZOFFSETTO:+0100
TZNAME:BST
DTSTART:20270328T010000
END:DAYLIGHT
BEGIN:STANDARD
TZOFFSETFROM:+0100
TZOFFSETTO:+0000
TZNAME:GMT
DTSTART:20271031T010000
END:STANDARD
END:VTIMEZONE
BEGIN:VEVENT
DTSTART;TZID=Europe/London:20260204T110000
DTEND;TZID=Europe/London:20260204T130000
DTSTAMP:20260424T131639
CREATED:20260130T114637Z
LAST-MODIFIED:20260202T114617Z
UID:12575-1770202800-1770210000@www.phoenixshooters.co.uk
SUMMARY:Wednesday 4th February\, Sheepshed DAYTIME shoot
DESCRIPTION:Looking forward to our daytime Sheepshed shoot – always a pleasant social ocassion as well as the shoot. We’ll possibly run a fun competition as well – nothing too serious. (obviously!) \nAs always it helps us if you let us know in advance you’ll be coming\, but that’s not compulsory – unless you need club guns\, ammunition or accessories.
URL:https://www.phoenixshooters.co.uk/calendar/wednesday-4th-february-sheepshed-daytime-shoot/
LOCATION:The Sheepshed Range\, Woodbank\, Cheshire\, United Kingdom
CATEGORIES:Airgun shoot,Daytime Sheepshed Shoot,Sheepshed Range Shoot
ATTACH;FMTTYPE=image/png:https://www.phoenixshooters.co.uk/wp-content/uploads/2025/02/White-sheep-e1740055974595.png
END:VEVENT
BEGIN:VEVENT
DTSTART;TZID=Europe/London:20260214T093000
DTEND;TZID=Europe/London:20260214T130000
DTSTAMP:20260424T131639
CREATED:20251114T135322Z
LAST-MODIFIED:20260208T135120Z
UID:12231-1771061400-1771074000@www.phoenixshooters.co.uk
SUMMARY:CANCELLED    Saturday 14th February 2026 Clay shoot at Phil's Place    CANCELLED
DESCRIPTION:The recent continued bout of heavy rain\, together with a slightly worse forecast (!) means that we must CANCEL this shoot to avoid doing damage to our friend Phil’s land. \n[ https://www.bbc.co.uk/weather/2644703 ]
URL:https://www.phoenixshooters.co.uk/calendar/saturday-14th-february-2026-clay-shoot-at-phils-place/
LOCATION:Phil’s Place\, Ledsham\, Ledsham\, United Kingdom
CATEGORIES:Cancelled,Clay shoot,Phil's place
ATTACH;FMTTYPE=image/png:https://www.phoenixshooters.co.uk/wp-content/uploads/2026/02/Rain.png
END:VEVENT
BEGIN:VEVENT
DTSTART;TZID=Europe/London:20260221T100000
DTEND;TZID=Europe/London:20260221T170000
DTSTAMP:20260424T131639
CREATED:20251128T132815Z
LAST-MODIFIED:20260218T105423Z
UID:12278-1771668000-1771693200@www.phoenixshooters.co.uk
SUMMARY:Saturday 21st February\, Wern Ddu shoot
DESCRIPTION:Now confirmed.  While the range is pretty sheltered it can get cold and a bit muddy\, so suitable clothing and wellies might be a good idea.   [ https://www.bbc.co.uk/weather/2647723 ] Parking is limited\, so it might be another good idea (I’m full of them today) to share transport if possible.  Remember if you have an un-moderated fullbore rifle\, you must use one of the two firing points with a barrel in front to reduce the noise. \nPLEASE let us know if you are planning to attend. \n[First\, please have a look at https://www.phoenixshooters.co.uk/category/club-news/ \nand let us know your thoughts – usual e-mail address.] \nThe entrance is shown on Google maps as “Wern Ddu Quarry\,” and it’s on the right on the A494 about 8.3 miles south of Ruthin. \nWhat three Words – CALL HOME PROMOTION \nOS Map ref 53◦ 01’ 24.13” N    3◦ 23’  26.77” W \nThere is a large motorcycle scrambling area\, so watch out for bikes!  The route to the range is shown below – up a fairly steep path. Note that there is a one-way system for entry and exit to the site – I’ve shown the “IN” route.
URL:https://www.phoenixshooters.co.uk/calendar/saturday-12st-february-wern-ddu-shoot/
LOCATION:Wern Ddu\, Corwen\, LL21 9DU\, United Kingdom
CATEGORIES:Wern Ddu shoot
ATTACH;FMTTYPE=image/jpeg:https://www.phoenixshooters.co.uk/wp-content/uploads/2025/06/Members-only-stamp_edited.jpg
END:VEVENT
BEGIN:VEVENT
DTSTART;TZID=Europe/London:20260225T190000
DTEND;TZID=Europe/London:20260225T210000
DTSTAMP:20260424T131639
CREATED:20260204T095502Z
LAST-MODIFIED:20260220T120244Z
UID:12629-1772046000-1772053200@www.phoenixshooters.co.uk
SUMMARY:Wednesday 25th February Sheepshed EVENING shoot
DESCRIPTION:Please remember to park tightly to allow as many cars in as possible\, while ensuring that our hosts have a clear route in and out. \nIf you need guns\, ammunition or equipment\, please let us know in advance. \n 
URL:https://www.phoenixshooters.co.uk/calendar/wednesday-25th-february-sheepshed-evening-shoot/
LOCATION:The Sheepshed Range\, Woodbank\, Cheshire\, United Kingdom
CATEGORIES:Evening Sheepshed Range Shoot,Sheepshed Range Shoot
ATTACH;FMTTYPE=image/png:https://www.phoenixshooters.co.uk/wp-content/uploads/2025/02/Black-sheep-e1740071926380.png
END:VEVENT
END:VCALENDAR