BEGIN:VCALENDAR
VERSION:2.0
PRODID:-//Phoenix Shooters Association - ECPv6.15.16//NONSGML v1.0//EN
CALSCALE:GREGORIAN
METHOD:PUBLISH
X-ORIGINAL-URL:https://www.phoenixshooters.co.uk
X-WR-CALDESC:Events for Phoenix Shooters Association
REFRESH-INTERVAL;VALUE=DURATION:PT1H
X-Robots-Tag:noindex
X-PUBLISHED-TTL:PT1H
BEGIN:VTIMEZONE
TZID:Europe/London
BEGIN:DAYLIGHT
TZOFFSETFROM:+0000
TZOFFSETTO:+0100
TZNAME:BST
DTSTART:20250330T010000
END:DAYLIGHT
BEGIN:STANDARD
TZOFFSETFROM:+0100
TZOFFSETTO:+0000
TZNAME:GMT
DTSTART:20251026T010000
END:STANDARD
BEGIN:DAYLIGHT
TZOFFSETFROM:+0000
TZOFFSETTO:+0100
TZNAME:BST
DTSTART:20260329T010000
END:DAYLIGHT
BEGIN:STANDARD
TZOFFSETFROM:+0100
TZOFFSETTO:+0000
TZNAME:GMT
DTSTART:20261025T010000
END:STANDARD
BEGIN:DAYLIGHT
TZOFFSETFROM:+0000
TZOFFSETTO:+0100
TZNAME:BST
DTSTART:20270328T010000
END:DAYLIGHT
BEGIN:STANDARD
TZOFFSETFROM:+0100
TZOFFSETTO:+0000
TZNAME:GMT
DTSTART:20271031T010000
END:STANDARD
END:VTIMEZONE
BEGIN:VEVENT
DTSTART;TZID=Europe/London:20260107T110000
DTEND;TZID=Europe/London:20260107T130000
DTSTAMP:20260424T173653
CREATED:20251228T152239Z
LAST-MODIFIED:20251230T152115Z
UID:12420-1767783600-1767790800@www.phoenixshooters.co.uk
SUMMARY:Wednesday 7th January Sheepshed DAYTIME shoot
DESCRIPTION:Here we go again –  Our first shoot of 2026. This will also be the start of the .22 precision competition for 2026. \nIf you can\, please let us know in advance if you’ll be coming; this is particularly importrant if you need club guns or ammunition etc.
URL:https://www.phoenixshooters.co.uk/calendar/wednesday-7th-january-sheepshed-daytime-shoot/
LOCATION:The Sheepshed Range\, Woodbank\, Cheshire\, United Kingdom
CATEGORIES:Daytime Sheepshed Shoot,Sheepshed Range Shoot
ATTACH;FMTTYPE=image/png:https://www.phoenixshooters.co.uk/wp-content/uploads/2025/02/White-sheep-e1740055974595.png
END:VEVENT
BEGIN:VEVENT
DTSTART;TZID=Europe/London:20260110T094500
DTEND;TZID=Europe/London:20260110T130000
DTSTAMP:20260424T173653
CREATED:20251228T152759Z
LAST-MODIFIED:20251228T155910Z
UID:12422-1768038300-1768050000@www.phoenixshooters.co.uk
SUMMARY:SATURDAY 10th January - clay shoot at Phil's Place.
DESCRIPTION:If you need directions\, please let us know. \nWhen arriving and leaving please drive slowly and quietly along the first part of the lane past the residences and farm animals. \nAs always\, if you need a gun or ammunition (or anything else!) please let us know in advance. Wellies may be necessary……
URL:https://www.phoenixshooters.co.uk/calendar/saturday-10th-january-clay-shoot-at-phils-place/
LOCATION:Phil’s Place\, Ledsham\, Ledsham\, United Kingdom
CATEGORIES:Clay shoot,Phil's place
ATTACH;FMTTYPE=image/jpeg:https://www.phoenixshooters.co.uk/wp-content/uploads/2025/03/Clays-at-Phils-22-3-25_edited.jpg
END:VEVENT
BEGIN:VEVENT
DTSTART;TZID=Europe/London:20260117T100000
DTEND;TZID=Europe/London:20260117T153000
DTSTAMP:20260424T173653
CREATED:20251228T154647Z
LAST-MODIFIED:20260115T124819Z
UID:12425-1768644000-1768663800@www.phoenixshooters.co.uk
SUMMARY:SATURDAY 17th January - Wern Ddu shoot
DESCRIPTION:This will be our first fullbore shoot of 2026 and our very first at the private Wern Ddu 100 yard range. It will also be from 10:00 to 15:30. \nIt’s about 30 miles from Sealand on the A494\, to the South-West of Ruthin. Hamper. Electrode. finalists  are the “What Three Words” needed to identify the entrance to the range. \nThe full address is: “‘Wern Ddu Quarry\, Gwyddelwern\, Corwen\, Denbighshire\, North Wales\, LL21 9DU.” \nIt’s important that you let us know beforehand that you will be coming so that we make the necessary arrangements – parking is apparently a bit restrictive\, but I’m sure we’ll manage. \nNote that if you haven’t got a sound moderator on your fullbore rifle you will have to shoot through a “tyre tunnel.” \nThere are no restrictions on calibre or type of  (legal !) firearm you can use here so 6.5 is welcome\, as are black powder pistols\, shotguns etc. \nThere are NO target supports/frames\, so you will need to bring a large cardboard box to stick targets on\, or a couple of garden canes or similar\, with wire or string between them to clip targets onto.
URL:https://www.phoenixshooters.co.uk/calendar/saturday-17th-january-wern-ddu-shoot-2/
CATEGORIES:Special event,Wern Ddu shoot
ATTACH;FMTTYPE=image/jpeg:https://www.phoenixshooters.co.uk/wp-content/uploads/2025/12/Wern-Ddu-2.jpg
END:VEVENT
BEGIN:VEVENT
DTSTART;TZID=Europe/London:20260128T190000
DTEND;TZID=Europe/London:20260128T210000
DTSTAMP:20260424T173653
CREATED:20251228T155139Z
LAST-MODIFIED:20251228T155201Z
UID:12429-1769626800-1769634000@www.phoenixshooters.co.uk
SUMMARY:WEDNESDAY 28th January - Sheepshed EVENING shoot
DESCRIPTION:As we always ask\, please park tightly to allow as many members to park as possible\, while at the same time ensuring there is a clear route in and out for the family. \nIf you need guns or ammunition please let us know in advance – in fact\, it helps us if you let us know anyway. \n 
URL:https://www.phoenixshooters.co.uk/calendar/wednesday-28th-january-sheepshed-evening-shoot/
LOCATION:The Sheepshed Range\, Woodbank\, Cheshire\, United Kingdom
CATEGORIES:Evening Sheepshed Range Shoot,Sheepshed Range Shoot
ATTACH;FMTTYPE=image/png:https://www.phoenixshooters.co.uk/wp-content/uploads/2025/02/Black-sheep-e1740071926380.png
END:VEVENT
END:VCALENDAR