BEGIN:VCALENDAR
VERSION:2.0
PRODID:-//Phoenix Shooters Association - ECPv6.15.16//NONSGML v1.0//EN
CALSCALE:GREGORIAN
METHOD:PUBLISH
X-WR-CALNAME:Phoenix Shooters Association
X-ORIGINAL-URL:https://www.phoenixshooters.co.uk
X-WR-CALDESC:Events for Phoenix Shooters Association
REFRESH-INTERVAL;VALUE=DURATION:PT1H
X-Robots-Tag:noindex
X-PUBLISHED-TTL:PT1H
BEGIN:VTIMEZONE
TZID:Europe/London
BEGIN:DAYLIGHT
TZOFFSETFROM:+0000
TZOFFSETTO:+0100
TZNAME:BST
DTSTART:20180325T010000
END:DAYLIGHT
BEGIN:STANDARD
TZOFFSETFROM:+0100
TZOFFSETTO:+0000
TZNAME:GMT
DTSTART:20181028T010000
END:STANDARD
BEGIN:DAYLIGHT
TZOFFSETFROM:+0000
TZOFFSETTO:+0100
TZNAME:BST
DTSTART:20190331T010000
END:DAYLIGHT
BEGIN:STANDARD
TZOFFSETFROM:+0100
TZOFFSETTO:+0000
TZNAME:GMT
DTSTART:20191027T010000
END:STANDARD
BEGIN:DAYLIGHT
TZOFFSETFROM:+0000
TZOFFSETTO:+0100
TZNAME:BST
DTSTART:20200329T010000
END:DAYLIGHT
BEGIN:STANDARD
TZOFFSETFROM:+0100
TZOFFSETTO:+0000
TZNAME:GMT
DTSTART:20201025T010000
END:STANDARD
BEGIN:DAYLIGHT
TZOFFSETFROM:+0000
TZOFFSETTO:+0100
TZNAME:BST
DTSTART:20210328T010000
END:DAYLIGHT
BEGIN:STANDARD
TZOFFSETFROM:+0100
TZOFFSETTO:+0000
TZNAME:GMT
DTSTART:20211031T010000
END:STANDARD
END:VTIMEZONE
BEGIN:VEVENT
DTSTART;TZID=Europe/London:20200110T120000
DTEND;TZID=Europe/London:20200110T170000
DTSTAMP:20260425T172819
CREATED:20191222T153729Z
LAST-MODIFIED:20250319T122908Z
UID:5159-1578657600-1578675600@www.phoenixshooters.co.uk
SUMMARY:Ron's Funeral
DESCRIPTION:Our friend Ron. \nRon’s funeral will be at Landican cemetery at 12:00 on FRIDAY 10th JANUARY 2020  and afterwards at the Dibbinsdale Hotel. If you are planning to go to the Dibbinsdale\, (and the family have said they would be very pleased to see members of Phoenix)  please let us know as soon as you can\, but in any case BEFORE 5th January 2020 (Not 5th December as accidentally written in an e-mail) so that we can help Brenda with the numbers. \n\n 
URL:https://www.phoenixshooters.co.uk/calendar/rons-funeral/
LOCATION:Landican cemetary\, Wirral\, CH49 5LW\, United Kingdom
CATEGORIES:Special event
END:VEVENT
BEGIN:VEVENT
DTSTART;TZID=Europe/London:20191019T083000
DTEND;TZID=Europe/London:20191019T123000
DTSTAMP:20260425T172819
CREATED:20190831T110617Z
LAST-MODIFIED:20190831T110617Z
UID:4915-1571473800-1571488200@www.phoenixshooters.co.uk
SUMMARY:Saturday 19th October 2019- Sealand "B" Range shoot.
DESCRIPTION:100\, 200\, 300\, 400 yards?   We’ll make that call when sufficient members have arrived at Sealand\, and we’ll go with the wishes of the majority. \n  \n 
URL:https://www.phoenixshooters.co.uk/calendar/saturday-19th-october-2019-sealand-b-range-shoot/
LOCATION:Sealand A Range\, Rifle Range\, Sealand Ranges\,	 Weighbridge Road\,	 Deeside Industrial Park\, Deeside\, CH5 2LL\, United Kingdom
CATEGORIES:"B" Range shoot,Sealand Shoot
ATTACH;FMTTYPE=:
END:VEVENT
END:VCALENDAR