BEGIN:VCALENDAR
VERSION:2.0
PRODID:-//Phoenix Shooters Association - ECPv6.15.16//NONSGML v1.0//EN
CALSCALE:GREGORIAN
METHOD:PUBLISH
X-ORIGINAL-URL:https://www.phoenixshooters.co.uk
X-WR-CALDESC:Events for Phoenix Shooters Association
REFRESH-INTERVAL;VALUE=DURATION:PT1H
X-Robots-Tag:noindex
X-PUBLISHED-TTL:PT1H
BEGIN:VTIMEZONE
TZID:Europe/London
BEGIN:DAYLIGHT
TZOFFSETFROM:+0000
TZOFFSETTO:+0100
TZNAME:BST
DTSTART:20220327T010000
END:DAYLIGHT
BEGIN:STANDARD
TZOFFSETFROM:+0100
TZOFFSETTO:+0000
TZNAME:GMT
DTSTART:20221030T010000
END:STANDARD
BEGIN:DAYLIGHT
TZOFFSETFROM:+0000
TZOFFSETTO:+0100
TZNAME:BST
DTSTART:20230326T010000
END:DAYLIGHT
BEGIN:STANDARD
TZOFFSETFROM:+0100
TZOFFSETTO:+0000
TZNAME:GMT
DTSTART:20231029T010000
END:STANDARD
BEGIN:DAYLIGHT
TZOFFSETFROM:+0000
TZOFFSETTO:+0100
TZNAME:BST
DTSTART:20240331T010000
END:DAYLIGHT
BEGIN:STANDARD
TZOFFSETFROM:+0100
TZOFFSETTO:+0000
TZNAME:GMT
DTSTART:20241027T010000
END:STANDARD
END:VTIMEZONE
BEGIN:VEVENT
DTSTART;TZID=Europe/London:20231206T190000
DTEND;TZID=Europe/London:20231206T230000
DTSTAMP:20260426T050118
CREATED:20220328T134554Z
LAST-MODIFIED:20220328T134554Z
UID:7686-1701889200-1701903600@www.phoenixshooters.co.uk
SUMMARY:Wed 6th December 2023 Our Annual  C H R I S T M A S Gathering and Prizegiving
DESCRIPTION:[There are a few spare places left – if you want one\, please let us know as soon as you can.] \nThis will be at the Neston Cricket club  – who have been very good to us over the years\, and has proved to be a most welcoming venue. \nhttps://thenestonclub.co.uk/parkgate-clubhouse \nThe price  (subsidised from club funds) will be £25 per adult\, £20 for juniors. \nThis is the ocassion when we all get together without having to wear hearing protection! Please let us know if you will be coming\, and how many guests you would like to bring as we have to book the room\, the tables and food etc. \nAs a member\, you can of course invite your family and friends as well\, and we hope that as many as possible will come along. \n 
URL:https://www.phoenixshooters.co.uk/calendar/wednesday-7th-december-2022-the-christmas-gathering-and-awards-ceremnoy/
LOCATION:Neston Cricket Club\, Neston Cricket Club\, Station Road\, Neston\, CH64 6QJ\, United Kingdom
CATEGORIES:Special event
END:VEVENT
END:VCALENDAR