BEGIN:VCALENDAR
VERSION:2.0
PRODID:-//Phoenix Shooters Association - ECPv6.15.16//NONSGML v1.0//EN
CALSCALE:GREGORIAN
METHOD:PUBLISH
X-ORIGINAL-URL:https://www.phoenixshooters.co.uk
X-WR-CALDESC:Events for Phoenix Shooters Association
REFRESH-INTERVAL;VALUE=DURATION:PT1H
X-Robots-Tag:noindex
X-PUBLISHED-TTL:PT1H
BEGIN:VTIMEZONE
TZID:Europe/London
BEGIN:DAYLIGHT
TZOFFSETFROM:+0000
TZOFFSETTO:+0100
TZNAME:BST
DTSTART:20240331T010000
END:DAYLIGHT
BEGIN:STANDARD
TZOFFSETFROM:+0100
TZOFFSETTO:+0000
TZNAME:GMT
DTSTART:20241027T010000
END:STANDARD
BEGIN:DAYLIGHT
TZOFFSETFROM:+0000
TZOFFSETTO:+0100
TZNAME:BST
DTSTART:20250330T010000
END:DAYLIGHT
BEGIN:STANDARD
TZOFFSETFROM:+0100
TZOFFSETTO:+0000
TZNAME:GMT
DTSTART:20251026T010000
END:STANDARD
BEGIN:DAYLIGHT
TZOFFSETFROM:+0000
TZOFFSETTO:+0100
TZNAME:BST
DTSTART:20260329T010000
END:DAYLIGHT
BEGIN:STANDARD
TZOFFSETFROM:+0100
TZOFFSETTO:+0000
TZNAME:GMT
DTSTART:20261025T010000
END:STANDARD
END:VTIMEZONE
BEGIN:VEVENT
DTSTART;TZID=Europe/London:20251107T083000
DTEND;TZID=Europe/London:20251107T123000
DTSTAMP:20260422T145342
CREATED:20250627T130053Z
LAST-MODIFIED:20251022T120255Z
UID:11687-1762504200-1762518600@www.phoenixshooters.co.uk
SUMMARY:FRIDAY  7th November 2025 Sealand A Range - Approved
DESCRIPTION:NB:  FRIDAY.\nOur bid for this date has been granted subject to the usual caveat about military units having precedence\, although this should be unlikely. As usual if you need any equipment or ammunition\, please let us know beforehand so that we can bring it along. Nowadays it’s important that we have a fair idea of the numbers attending\, as we have to let The MoD know this in advance. It also helps us to work out the number of target lanes\, and therefore the number of butts markers per detail. \nA BIG “thank you” to all those who volunteer to do butts\, RO and lookout duties !
URL:https://www.phoenixshooters.co.uk/calendar/friday-7th-november-2025-sealand-a-range/
LOCATION:Sealand A Range\, Rifle Range\, Sealand Ranges\,	 Weighbridge Road\,	 Deeside Industrial Park\, Deeside\, CH5 2LL\, United Kingdom
CATEGORIES:"A" Range shoot,FRIDAY shoot,Sealand Shoot
ATTACH;FMTTYPE=image/jpeg:https://www.phoenixshooters.co.uk/wp-content/uploads/2025/02/Sealand-1-4-21-1_edited-2.jpg
END:VEVENT
END:VCALENDAR