BEGIN:VCALENDAR
VERSION:2.0
PRODID:-//Phoenix Shooters Association - ECPv6.15.16//NONSGML v1.0//EN
CALSCALE:GREGORIAN
METHOD:PUBLISH
X-ORIGINAL-URL:https://www.phoenixshooters.co.uk
X-WR-CALDESC:Events for Phoenix Shooters Association
REFRESH-INTERVAL;VALUE=DURATION:PT1H
X-Robots-Tag:noindex
X-PUBLISHED-TTL:PT1H
BEGIN:VTIMEZONE
TZID:Europe/London
BEGIN:DAYLIGHT
TZOFFSETFROM:+0000
TZOFFSETTO:+0100
TZNAME:BST
DTSTART:20250330T010000
END:DAYLIGHT
BEGIN:STANDARD
TZOFFSETFROM:+0100
TZOFFSETTO:+0000
TZNAME:GMT
DTSTART:20251026T010000
END:STANDARD
BEGIN:DAYLIGHT
TZOFFSETFROM:+0000
TZOFFSETTO:+0100
TZNAME:BST
DTSTART:20260329T010000
END:DAYLIGHT
BEGIN:STANDARD
TZOFFSETFROM:+0100
TZOFFSETTO:+0000
TZNAME:GMT
DTSTART:20261025T010000
END:STANDARD
BEGIN:DAYLIGHT
TZOFFSETFROM:+0000
TZOFFSETTO:+0100
TZNAME:BST
DTSTART:20270328T010000
END:DAYLIGHT
BEGIN:STANDARD
TZOFFSETFROM:+0100
TZOFFSETTO:+0000
TZNAME:GMT
DTSTART:20271031T010000
END:STANDARD
END:VTIMEZONE
BEGIN:VEVENT
DTSTART;TZID=Europe/London:20260516T094500
DTEND;TZID=Europe/London:20260516T130000
DTSTAMP:20260420T111530
CREATED:20260322T132300Z
LAST-MODIFIED:20260322T132300Z
UID:13065-1778924700-1778936400@www.phoenixshooters.co.uk
SUMMARY:SATURDAY 16th May 2026 Clay shoot at Cotton Edmunds
DESCRIPTION:If you’ haven’t had a chance yet to come to one of these shoots in the beautiful Cheshire countryside\, you’ve been missing out. At least one member comes along – not to shoot\, but to enjoy the atmosphere and chat with friends (not to mention the de-brief afterwards.) \nAs we always ask\, it helps us if you let us know beforehand (preferably by e-mail) that you’ll be coming\, so that we be sure to have enough clays\, traps\, shotguns and ammunition for the day. \nIf you need directions\, just ask !
URL:https://www.phoenixshooters.co.uk/calendar/saturday-16th-may-2026-clay-shoot-at-cotton-edmunds/
LOCATION:Cotton Edmunds
CATEGORIES:Clay shoot,Clay Shoot Cotton Edmunds
ATTACH;FMTTYPE=image/jpeg:https://www.phoenixshooters.co.uk/wp-content/uploads/2025/02/Clay-with-hole.jpg
END:VEVENT
BEGIN:VEVENT
DTSTART;TZID=Europe/London:20260613T094500
DTEND;TZID=Europe/London:20260613T130000
DTSTAMP:20260420T111530
CREATED:20260322T132751Z
LAST-MODIFIED:20260322T132751Z
UID:13067-1781343900-1781355600@www.phoenixshooters.co.uk
SUMMARY:SATURDAY 13th June 2026 Clay shoot at Cotton Edmunds
DESCRIPTION:I’ll put more details of this shoot nearer the date but remember; letting us know beforehand that you’ll be coming (by e-mail\, for preference) will help us to get things organised properly for you.
URL:https://www.phoenixshooters.co.uk/calendar/saturday-13th-june-2026-clay-shoot-at-cotton-edmunds/
LOCATION:Cotton Edmunds
CATEGORIES:Clay shoot,Clay Shoot Cotton Edmunds
ATTACH;FMTTYPE=image/jpeg:https://www.phoenixshooters.co.uk/wp-content/uploads/2025/02/Clay-for-website.jpg
END:VEVENT
BEGIN:VEVENT
DTSTART;TZID=Europe/London:20260718T094500
DTEND;TZID=Europe/London:20260718T130000
DTSTAMP:20260420T111530
CREATED:20260322T133031Z
LAST-MODIFIED:20260322T133045Z
UID:13069-1784367900-1784379600@www.phoenixshooters.co.uk
SUMMARY:SATURDAY 18th July 2026 Clay Shoot\, Cotton Edmunds
DESCRIPTION:I’ll put more details of this shoot nearer the date but remember; letting us know beforehand that you’ll be coming (by e-mail\, for preference) will help us to get things organised properly for you.
URL:https://www.phoenixshooters.co.uk/calendar/saturday-18th-july-2026-clay-shoot-cotton-edmunds/
CATEGORIES:Clay shoot,Clay Shoot Cotton Edmunds
ATTACH;FMTTYPE=image/jpeg:https://www.phoenixshooters.co.uk/wp-content/uploads/2025/02/Cotton-farm-1.jpeg
END:VEVENT
BEGIN:VEVENT
DTSTART;TZID=Europe/London:20260801T094500
DTEND;TZID=Europe/London:20260801T130000
DTSTAMP:20260420T111530
CREATED:20260322T133400Z
LAST-MODIFIED:20260322T133437Z
UID:13071-1785577500-1785589200@www.phoenixshooters.co.uk
SUMMARY:SATURDAY 1st August 2026 Clay Shoot\, Cotton Edmunds
DESCRIPTION:I’ll post more details of this shoot nearer the date but remember; letting us know beforehand that you’ll be coming (by e-mail\, for preference) will help us to get things organised properly for you.
URL:https://www.phoenixshooters.co.uk/calendar/saturday-1st-august-2026-clay-shoot-cotton-edmunds/
LOCATION:Cotton Edmunds
CATEGORIES:Clay shoot,Clay Shoot Cotton Edmunds
ATTACH;FMTTYPE=image/png:https://www.phoenixshooters.co.uk/wp-content/uploads/2025/03/Cotton-Farm-2-e1743425205160.png
END:VEVENT
BEGIN:VEVENT
DTSTART;TZID=Europe/London:20260905T094500
DTEND;TZID=Europe/London:20260905T130000
DTSTAMP:20260420T111530
CREATED:20260322T133709Z
LAST-MODIFIED:20260322T133709Z
UID:13074-1788601500-1788613200@www.phoenixshooters.co.uk
SUMMARY:SATURDAY 5th September 2026 Clay shoot at Cotton Edmunds
DESCRIPTION:I’ll post more details of this shoot nearer the date but remember; letting us know beforehand that you’ll be coming (by e-mail\, for preference) will help us to get things organised properly for you.
URL:https://www.phoenixshooters.co.uk/calendar/saturday-5th-september-2026-clay-shoot-at-cotton-edmunds/
LOCATION:Cotton Edmunds
CATEGORIES:Clay shoot,Clay Shoot Cotton Edmunds
ATTACH;FMTTYPE=image/png:https://www.phoenixshooters.co.uk/wp-content/uploads/2025/02/Clay-carts-cartoon.png
END:VEVENT
BEGIN:VEVENT
DTSTART;TZID=Europe/London:20261010T094500
DTEND;TZID=Europe/London:20261010T130000
DTSTAMP:20260420T111530
CREATED:20260322T133940Z
LAST-MODIFIED:20260322T134014Z
UID:13076-1791625500-1791637200@www.phoenixshooters.co.uk
SUMMARY:SATURDAY October 10th 2026\, Clay shoot at Cotton Edmunds
DESCRIPTION:I’ll post more details of this shoot nearer the date but remember; letting us know beforehand that you’ll be coming (by e-mail\, for preference) will help us to get things organised properly for you.
URL:https://www.phoenixshooters.co.uk/calendar/saturday-october-10th-2026-clay-shoot-at-cotton-edmunds/
LOCATION:Cotton Edmunds
CATEGORIES:Clay shoot,Clay Shoot Cotton Edmunds
ATTACH;FMTTYPE=image/jpeg:https://www.phoenixshooters.co.uk/wp-content/uploads/2025/02/Clay-for-website.jpg
END:VEVENT
END:VCALENDAR