BEGIN:VCALENDAR
VERSION:2.0
PRODID:-//Phoenix Shooters Association - ECPv6.15.16//NONSGML v1.0//EN
CALSCALE:GREGORIAN
METHOD:PUBLISH
X-ORIGINAL-URL:https://www.phoenixshooters.co.uk
X-WR-CALDESC:Events for Phoenix Shooters Association
REFRESH-INTERVAL;VALUE=DURATION:PT1H
X-Robots-Tag:noindex
X-PUBLISHED-TTL:PT1H
BEGIN:VTIMEZONE
TZID:Europe/London
BEGIN:DAYLIGHT
TZOFFSETFROM:+0000
TZOFFSETTO:+0100
TZNAME:BST
DTSTART:20250330T010000
END:DAYLIGHT
BEGIN:STANDARD
TZOFFSETFROM:+0100
TZOFFSETTO:+0000
TZNAME:GMT
DTSTART:20251026T010000
END:STANDARD
BEGIN:DAYLIGHT
TZOFFSETFROM:+0000
TZOFFSETTO:+0100
TZNAME:BST
DTSTART:20260329T010000
END:DAYLIGHT
BEGIN:STANDARD
TZOFFSETFROM:+0100
TZOFFSETTO:+0000
TZNAME:GMT
DTSTART:20261025T010000
END:STANDARD
BEGIN:DAYLIGHT
TZOFFSETFROM:+0000
TZOFFSETTO:+0100
TZNAME:BST
DTSTART:20270328T010000
END:DAYLIGHT
BEGIN:STANDARD
TZOFFSETFROM:+0100
TZOFFSETTO:+0000
TZNAME:GMT
DTSTART:20271031T010000
END:STANDARD
END:VTIMEZONE
BEGIN:VEVENT
DTSTART;TZID=Europe/London:20260321T093000
DTEND;TZID=Europe/London:20260321T130000
DTSTAMP:20260422T143032
CREATED:20251114T135539Z
LAST-MODIFIED:20251117T103813Z
UID:12233-1774085400-1774098000@www.phoenixshooters.co.uk
SUMMARY:Saturday 21st March 2026 Clay shoot at Phil's Place
DESCRIPTION:If you haven’t been before and need directions\, please let us know and we’ll help. \nPlease remember to drive slowly and quietly past the residential farm buildings. \nYou’ll probably need wellies….. !
URL:https://www.phoenixshooters.co.uk/calendar/saturday-14th-march-2026-clay-shoot-at-phils-place/
LOCATION:Phil’s Place\, Ledsham\, Ledsham\, United Kingdom
CATEGORIES:Clay shoot,Phil's place
ATTACH;FMTTYPE=image/jpeg:https://www.phoenixshooters.co.uk/wp-content/uploads/2025/03/Clays-at-Phils-22-3-25_edited.jpg
END:VEVENT
END:VCALENDAR