BEGIN:VCALENDAR
VERSION:2.0
PRODID:-//Phoenix Shooters Association - ECPv6.15.16//NONSGML v1.0//EN
CALSCALE:GREGORIAN
METHOD:PUBLISH
X-WR-CALNAME:Phoenix Shooters Association
X-ORIGINAL-URL:https://www.phoenixshooters.co.uk
X-WR-CALDESC:Events for Phoenix Shooters Association
REFRESH-INTERVAL;VALUE=DURATION:PT1H
X-Robots-Tag:noindex
X-PUBLISHED-TTL:PT1H
BEGIN:VTIMEZONE
TZID:Europe/London
BEGIN:DAYLIGHT
TZOFFSETFROM:+0000
TZOFFSETTO:+0100
TZNAME:BST
DTSTART:20250330T010000
END:DAYLIGHT
BEGIN:STANDARD
TZOFFSETFROM:+0100
TZOFFSETTO:+0000
TZNAME:GMT
DTSTART:20251026T010000
END:STANDARD
BEGIN:DAYLIGHT
TZOFFSETFROM:+0000
TZOFFSETTO:+0100
TZNAME:BST
DTSTART:20260329T010000
END:DAYLIGHT
BEGIN:STANDARD
TZOFFSETFROM:+0100
TZOFFSETTO:+0000
TZNAME:GMT
DTSTART:20261025T010000
END:STANDARD
BEGIN:DAYLIGHT
TZOFFSETFROM:+0000
TZOFFSETTO:+0100
TZNAME:BST
DTSTART:20270328T010000
END:DAYLIGHT
BEGIN:STANDARD
TZOFFSETFROM:+0100
TZOFFSETTO:+0000
TZNAME:GMT
DTSTART:20271031T010000
END:STANDARD
END:VTIMEZONE
BEGIN:VEVENT
DTSTART;TZID=Europe/London:20260905T094500
DTEND;TZID=Europe/London:20260905T130000
DTSTAMP:20260421T225617
CREATED:20260322T133709Z
LAST-MODIFIED:20260322T133709Z
UID:13074-1788601500-1788613200@www.phoenixshooters.co.uk
SUMMARY:SATURDAY 5th September 2026 Clay shoot at Cotton Edmunds
DESCRIPTION:I’ll post more details of this shoot nearer the date but remember; letting us know beforehand that you’ll be coming (by e-mail\, for preference) will help us to get things organised properly for you.
URL:https://www.phoenixshooters.co.uk/calendar/saturday-5th-september-2026-clay-shoot-at-cotton-edmunds/
LOCATION:Cotton Edmunds
CATEGORIES:Clay shoot,Clay Shoot Cotton Edmunds
ATTACH;FMTTYPE=image/png:https://www.phoenixshooters.co.uk/wp-content/uploads/2025/02/Clay-carts-cartoon.png
END:VEVENT
END:VCALENDAR