BEGIN:VCALENDAR
VERSION:2.0
PRODID:-//Phoenix Shooters Association - ECPv6.15.16//NONSGML v1.0//EN
CALSCALE:GREGORIAN
METHOD:PUBLISH
X-ORIGINAL-URL:https://www.phoenixshooters.co.uk
X-WR-CALDESC:Events for Phoenix Shooters Association
REFRESH-INTERVAL;VALUE=DURATION:PT1H
X-Robots-Tag:noindex
X-PUBLISHED-TTL:PT1H
BEGIN:VTIMEZONE
TZID:Europe/London
BEGIN:DAYLIGHT
TZOFFSETFROM:+0000
TZOFFSETTO:+0100
TZNAME:BST
DTSTART:20250330T010000
END:DAYLIGHT
BEGIN:STANDARD
TZOFFSETFROM:+0100
TZOFFSETTO:+0000
TZNAME:GMT
DTSTART:20251026T010000
END:STANDARD
BEGIN:DAYLIGHT
TZOFFSETFROM:+0000
TZOFFSETTO:+0100
TZNAME:BST
DTSTART:20260329T010000
END:DAYLIGHT
BEGIN:STANDARD
TZOFFSETFROM:+0100
TZOFFSETTO:+0000
TZNAME:GMT
DTSTART:20261025T010000
END:STANDARD
BEGIN:DAYLIGHT
TZOFFSETFROM:+0000
TZOFFSETTO:+0100
TZNAME:BST
DTSTART:20270328T010000
END:DAYLIGHT
BEGIN:STANDARD
TZOFFSETFROM:+0100
TZOFFSETTO:+0000
TZNAME:GMT
DTSTART:20271031T010000
END:STANDARD
END:VTIMEZONE
BEGIN:VEVENT
DTSTART;TZID=Europe/London:20260425T093000
DTEND;TZID=Europe/London:20260425T130000
DTSTAMP:20260422T133102
CREATED:20260224T110118Z
LAST-MODIFIED:20260422T104343Z
UID:12804-1777109400-1777122000@www.phoenixshooters.co.uk
SUMMARY:Saturday 25th April  - Brimstage shoot [Updated 11:32\, 22/4/26]
DESCRIPTION:The friendly\, informal Brimstage shoots are undoubtedly the best events for your family and friends to come to\, and they will be made most welcome as your guests.. \nAir rifles\, air pistols\, airsofts\, BB guns etc are all welcome\, likewise any form of archery.  If you want to bring your own targets\, these will be very welcome as well. \nThe parking arrangements will be different for this shoot – we will be parking in the field next to the Archery. If  you’re coming from Brimstage village\, go past the normal entrance on your right\, then the new entrance will be a short distance further on – on your right: There will be signs ! \nAs always\, if you let us know you’ll be coming (by e-mail preferably) it makes things easier for us\, and that’s particularly important to us just now. \nOf course if you want a club gun or bow\, then it’s doubly important that you let us know so that we can bring it for you !
URL:https://www.phoenixshooters.co.uk/calendar/saturday-25th-april-brimstage-shoot/
LOCATION:Brimstage\, Brimstage\, Wirral\, United Kingdom
CATEGORIES:Airgun shoot,Brimstage
ATTACH;FMTTYPE=image/jpeg:https://www.phoenixshooters.co.uk/wp-content/uploads/2025/02/Brimstage-1-1.jpg
END:VEVENT
END:VCALENDAR