BEGIN:VCALENDAR
VERSION:2.0
PRODID:-//Phoenix Shooters Association - ECPv6.15.16//NONSGML v1.0//EN
CALSCALE:GREGORIAN
METHOD:PUBLISH
X-WR-CALNAME:Phoenix Shooters Association
X-ORIGINAL-URL:https://www.phoenixshooters.co.uk
X-WR-CALDESC:Events for Phoenix Shooters Association
REFRESH-INTERVAL;VALUE=DURATION:PT1H
X-Robots-Tag:noindex
X-PUBLISHED-TTL:PT1H
BEGIN:VTIMEZONE
TZID:Europe/London
BEGIN:DAYLIGHT
TZOFFSETFROM:+0000
TZOFFSETTO:+0100
TZNAME:BST
DTSTART:20250330T010000
END:DAYLIGHT
BEGIN:STANDARD
TZOFFSETFROM:+0100
TZOFFSETTO:+0000
TZNAME:GMT
DTSTART:20251026T010000
END:STANDARD
BEGIN:DAYLIGHT
TZOFFSETFROM:+0000
TZOFFSETTO:+0100
TZNAME:BST
DTSTART:20260329T010000
END:DAYLIGHT
BEGIN:STANDARD
TZOFFSETFROM:+0100
TZOFFSETTO:+0000
TZNAME:GMT
DTSTART:20261025T010000
END:STANDARD
BEGIN:DAYLIGHT
TZOFFSETFROM:+0000
TZOFFSETTO:+0100
TZNAME:BST
DTSTART:20270328T010000
END:DAYLIGHT
BEGIN:STANDARD
TZOFFSETFROM:+0100
TZOFFSETTO:+0000
TZNAME:GMT
DTSTART:20271031T010000
END:STANDARD
END:VTIMEZONE
BEGIN:VEVENT
DTSTART;TZID=Europe/London:20260411T100000
DTEND;TZID=Europe/London:20260411T160000
DTSTAMP:20260424T142247
CREATED:20260223T165340Z
LAST-MODIFIED:20260410T083229Z
UID:12789-1775901600-1775923200@www.phoenixshooters.co.uk
SUMMARY:Saturday 11th April 2026\, Wern Ddu shoot
DESCRIPTION:From Keith E – “It may be wise to plan a alternative route B\, with hints of possible waggons and lorries running a go slow crawl on A55 to protest about fuel prices. Watch the news and listen radio etc. May not happen but be prepared…”  [NO news as at 09:30 10/4/26] \nThe entrance is shown on Google maps as Wern Ddu Quarry\, and it’s on the right on the A494 about 8.3 miles south of Ruthin. \nWhat three Words – CALL HOME PROMOTION \nOS Map ref 53◦ 01’ 24.13” N   3◦ 23’ 26.77” W \nMore details on the website – see below link \nProtected: Proposed Wern Ddu procedure [Update 22/3/26 12:37]\nNote that we may not necessarily shoot right up to 16:00 – we’ll finish when everyone has had enough!
URL:https://www.phoenixshooters.co.uk/calendar/saturday-11th-april-2026-wern-ddu-shoot/
LOCATION:Wern Ddu\, Corwen\, LL21 9DU\, United Kingdom
CATEGORIES:Wern Ddu shoot
ATTACH;FMTTYPE=image/png:https://www.phoenixshooters.co.uk/wp-content/uploads/2026/02/Dragon-2.png
END:VEVENT
END:VCALENDAR